BEGIN:VCALENDAR
VERSION:2.0
PRODID:-//Allied Distribution - ECPv6.15.7//NONSGML v1.0//EN
CALSCALE:GREGORIAN
METHOD:PUBLISH
X-WR-CALNAME:Allied Distribution
X-ORIGINAL-URL:https://allieddistribution.com
X-WR-CALDESC:Events for Allied Distribution
REFRESH-INTERVAL;VALUE=DURATION:PT1H
X-Robots-Tag:noindex
X-PUBLISHED-TTL:PT1H
BEGIN:VTIMEZONE
TZID:UTC
BEGIN:STANDARD
TZOFFSETFROM:+0000
TZOFFSETTO:+0000
TZNAME:UTC
DTSTART:20150101T000000
END:STANDARD
END:VTIMEZONE
BEGIN:VEVENT
DTSTART;VALUE=DATE:20170625
DTEND;VALUE=DATE:20170628
DTSTAMP:20260425T192206
CREATED:20170503T044546Z
LAST-MODIFIED:20170503T044546Z
UID:337-1498348800-1498607999@allieddistribution.com
SUMMARY:Summer Fancy Food Show
DESCRIPTION:
URL:https://allieddistribution.com/event/summer-fancy-food-show/
LOCATION:Javits Center\, 655 W 34th St\, New York\, NY\, 10001\, United States
END:VEVENT
BEGIN:VEVENT
DTSTART;VALUE=DATE:20170523
DTEND;VALUE=DATE:20170526
DTSTAMP:20260425T192206
CREATED:20170503T044313Z
LAST-MODIFIED:20170503T044313Z
UID:336-1495497600-1495756799@allieddistribution.com
SUMMARY:Sweets & Snacks Expo
DESCRIPTION:
URL:https://allieddistribution.com/event/sweets-snacks-expo/
LOCATION:McCormick Place\, 2301 S King Dr\, Chicago\, IL\, 60616\, United States
END:VEVENT
BEGIN:VEVENT
DTSTART;VALUE=DATE:20170520
DTEND;VALUE=DATE:20170524
DTSTAMP:20260425T192206
CREATED:20170503T044128Z
LAST-MODIFIED:20170503T044128Z
UID:335-1495238400-1495583999@allieddistribution.com
SUMMARY:National Restaurant Association Show
DESCRIPTION:
URL:https://allieddistribution.com/event/national-restaurant-association-show/
LOCATION:McCormick Place\, 2301 S King Dr\, Chicago\, IL\, 60616\, United States
END:VEVENT
BEGIN:VEVENT
DTSTART;TZID=UTC:20170517T053000
DTEND;TZID=UTC:20170517T203000
DTSTAMP:20260425T192206
CREATED:20170502T202553Z
LAST-MODIFIED:20170502T202553Z
UID:330-1494999000-1495053000@allieddistribution.com
SUMMARY:The Future is Now: GPS\, Drones\, and Automated Manufacturing
DESCRIPTION:It’s no longer something that may happen in the future. It’s happening now. It’s happening fast. And it’s happening right here in the Bay Area. 
URL:https://allieddistribution.com/event/the-future-is-now-gps-drones-and-automated-manufacturing/
LOCATION:GoPro Headquarters\, 3000 Clearview Way\, San Mateo\, CA\, 94402\, United States
END:VEVENT
BEGIN:VEVENT
DTSTART;VALUE=DATE:20170430
DTEND;VALUE=DATE:20170504
DTSTAMP:20260425T192206
CREATED:20170503T043838Z
LAST-MODIFIED:20170503T043838Z
UID:333-1493510400-1493855999@allieddistribution.com
SUMMARY:WERC - 40th Annual Conference
DESCRIPTION:The WERC Annual Conference is unparalleled for its quality and depth to which it explores these and other key issues. No other event goes as far to meet the needs of warehousing and logistics professionals. Take your business and career to the next level; join us in Fort Worth\, Texas\, from April 30 to May 3\, 2017.
URL:https://allieddistribution.com/event/werc-40th-annual-conference/
LOCATION:Fort Worth Convention Center\, 1201 Houston St\, Fort Worth\, TX\, 76102\, United States
END:VEVENT
BEGIN:VEVENT
DTSTART;VALUE=DATE:20170420
DTEND;VALUE=DATE:20170421
DTSTAMP:20260425T192206
CREATED:20170110T033151Z
LAST-MODIFIED:20170110T033151Z
UID:311-1492646400-1492732799@allieddistribution.com
SUMMARY:Innovation Champions Event and Scholarship Presentations
DESCRIPTION:Location TBD – Silicon Valley \n1/2 Day event \nBreakfast Keynote followed by “Supply Chain of Money” and “SC Leaders of Hot Product Innovators” panel discussions \nPresentation of Scholarships\n(GoPro\, Facebook\, ViaSat\, Apple\, Zero Motorcycle)
URL:https://allieddistribution.com/event/innovation-champions-event-and-scholarship-presentations/
LOCATION:NY
END:VEVENT
BEGIN:VEVENT
DTSTART;VALUE=DATE:20170319
DTEND;VALUE=DATE:20170322
DTSTAMP:20260425T192206
CREATED:20170110T032140Z
LAST-MODIFIED:20170110T032140Z
UID:303-1489881600-1490140799@allieddistribution.com
SUMMARY:IWLA Annual Convention
DESCRIPTION:The IWLA Convention & Expo is where North American warehouse logistics leaders gather\, make connections\, learn\, network\, and work together for a stronger industry. \nAnd the 2017 event\, March 19-21 in Palm Springs\, Calif.\, will attract warehousing professionals from around the globe as members of the International Federation of Warehousing and Logistics Associations (IFWLA) will join IWLA members for a dual meeting. \nStrong leadership is essential in any successful company – anywhere in the world. “Leadership that Inspires” is the convention theme and sessions and events focus on giving attendees new ideas to motivate employees for continued growth. \nIf you’ve never attended an IWLA Convention\, now is the time. You won’t want to miss the unique opportunities and connections available only when IWLA-member logistics leaders gather. \nIf you’re a returning attendee\, you already know the value of the experience – and you’ll leave Palm Springs with even more friends and ideas. \nLocation \nHyatt Regency Indian Wells Resort and Spa\n44600 Indian Wells Lane\nIndian Wells\, CA 92210 \nPhone: 760.776.1234
URL:https://allieddistribution.com/event/iwla-annual-convention/
LOCATION:Hyatt Regency Indian Wells Resort and Spa\, 44600 Indian Wells Lane\, Indian Wells\, CA\, 92210\, United States
END:VEVENT
BEGIN:VEVENT
DTSTART;TZID=UTC:20170315T170000
DTEND;TZID=UTC:20170315T203000
DTSTAMP:20260425T192206
CREATED:20170110T033106Z
LAST-MODIFIED:20170110T033106Z
UID:309-1489597200-1489609800@allieddistribution.com
SUMMARY:Drones and GPS in the World of Supply Chain
DESCRIPTION:
URL:https://allieddistribution.com/event/drones-and-gps-in-the-world-of-supply-chain/
LOCATION:Trimble Navigation\, 935 Stewart Dr \, Sunnyvale\, CA\, 94085\, United States
END:VEVENT
BEGIN:VEVENT
DTSTART;VALUE=DATE:20170310
DTEND;VALUE=DATE:20170313
DTSTAMP:20260425T192206
CREATED:20170110T031844Z
LAST-MODIFIED:20170110T031844Z
UID:301-1489104000-1489363199@allieddistribution.com
SUMMARY:Natural Products Expo West Show
DESCRIPTION:Trade Show\nMarch 10-12\, 2017 | Anaheim Convention Center \nAnaheim\, CA\, USA
URL:https://allieddistribution.com/event/natural-products-expo-west-show/
LOCATION:Anaheim Convention Center\, 800 West Katella Avenue\, Anaheim\, CA\, 92802\, United States
END:VEVENT
BEGIN:VEVENT
DTSTART;VALUE=DATE:20170209
DTEND;VALUE=DATE:20170210
DTSTAMP:20260425T192206
CREATED:20170110T032933Z
LAST-MODIFIED:20170110T032933Z
UID:307-1486598400-1486684799@allieddistribution.com
SUMMARY:The Valentine’s Supply Chain: Wine and Flowers
DESCRIPTION:Location TBD \nJeff Border\, Plated Ernie Chachere\, EJ Gallo
URL:https://allieddistribution.com/event/the-valentines-supply-chain-wine-and-flowers/
LOCATION:NY
END:VEVENT
BEGIN:VEVENT
DTSTART;VALUE=DATE:20170122
DTEND;VALUE=DATE:20170125
DTSTAMP:20260425T192206
CREATED:20170110T031452Z
LAST-MODIFIED:20170110T031452Z
UID:299-1485043200-1485302399@allieddistribution.com
SUMMARY:Fancy Food Show
DESCRIPTION:INNOVATION –\nYOU’LL DISCOVER IT HERE \nMark your calendars for the largest specialty food and beverage show on the West Coast! \nJoin us in San Francisco from January 22 – 24 to discover the hottest new products\, producers\, and trends at the 2017 Winter Fancy Food Show. \nDon’t miss your chance to network with more than 33\,000 industry professionals and tastemakers. Register today! \nSunday\, January 22\, 2017: Show Open 10 a.m. – 5 p.m.*\nMonday\, January 23\, 2017: Show Open 10 a.m. – 5 p.m.*\nTuesday\, January 24\, 2017: Show Open 10 a.m. – 4 p.m.*
URL:https://allieddistribution.com/event/fancy-food-show/
LOCATION:Moscone Center\, 747 Howard Street\, San Francisco\, CA\, 94103\, United States
END:VEVENT
BEGIN:VEVENT
DTSTART;TZID=UTC:20170118T170000
DTEND;TZID=UTC:20170118T203000
DTSTAMP:20260425T192206
CREATED:20170110T032850Z
LAST-MODIFIED:20170110T032850Z
UID:305-1484758800-1484771400@allieddistribution.com
SUMMARY:“Logistics of Sports” at AT&T Park\, Home of the San Francisco Giants
DESCRIPTION:Featuring Keynote Presentation by:\nAlfonso Felder\, Executive VP\, Administration for the San Francisco Giants\n \nRegister to attend\nEvent Chair\, Tom Dennison (Levi Strauss & Co.) is providing Bay Area Supply Chain and Logistics professionals with a rare and exciting opportunity to learn about the logistics operations of a major league sports franchise. \nThe evening will include a tour of AT&T Ballpark and feature a keynote presentation by Alfonso Felder\, VP of Administration for the San Francisco Giants on “The Logistics of Sports“. This unique event promises to be both fun and informative.
URL:https://allieddistribution.com/event/logistics-of-sports-at-att-park-home-of-the-san-francisco-giants/
LOCATION:At&T Park\, 24 Willie Mays Plaza \, San Francisco\, CA\, 94107\, United States
END:VEVENT
BEGIN:VEVENT
DTSTART;VALUE=DATE:20161201
DTEND;VALUE=DATE:20170101
DTSTAMP:20260425T192206
CREATED:20161209T031923Z
LAST-MODIFIED:20161209T031923Z
UID:294-1480550400-1483228799@allieddistribution.com
SUMMARY:Wishing you and yours a peaceful holiday season.
DESCRIPTION:
URL:https://allieddistribution.com/event/wishing-you-and-yours-a-peaceful-holiday-season/
LOCATION:NY
END:VEVENT
BEGIN:VEVENT
DTSTART;TZID=UTC:20161130T170000
DTEND;TZID=UTC:20161130T200000
DTSTAMP:20260425T192206
CREATED:20161026T011436Z
LAST-MODIFIED:20161026T011436Z
UID:292-1480525200-1480536000@allieddistribution.com
SUMMARY:CSCMP-SF Roundtable Predictions event
DESCRIPTION:“What’s Next?” CSCMP’s Flagship PREDICTIONS Event \nFeaturing Carl Guardino\, CEO\, Silicon Valley Leadership Group!\n\nEvent Chair\, Mike Powell (RK Group) is changing it up this year moving the event back to the Computer History Museum in Mountain View and expects a sold out crowd. Mark your calendar for Nov. 30th and register to attend! \nWe will join CSCMP’s San Francisco Roundtable for the popular “Predictions’ event moderated by the dynamic Carl Guardino\, CEO of the Silicon Valley Leadership Group. Senior executives and supply chain leaders from Google\, CRST Logistics\, Fetch Robotics\, and Velodyne LiDAR will share point and counterpoint predictions with the now-familiar green and red ping-pong paddles\, while Carl facilitates dynamic audience interaction.
URL:https://allieddistribution.com/event/cscmp-sf-roundtable-predictions-event/
LOCATION:NY
END:VEVENT
BEGIN:VEVENT
DTSTART;VALUE=DATE:20160925
DTEND;VALUE=DATE:20160929
DTSTAMP:20260425T192206
CREATED:20160712T233649Z
LAST-MODIFIED:20160712T233649Z
UID:277-1474761600-1475107199@allieddistribution.com
SUMMARY:CSCMP's 2016 Annual Conference Is Supply Chain’s Premier Event™
DESCRIPTION:If you’re not connected to the global community of successful supply chain businesses\, thought leaders\, and innovators\, your company and your career can never reach their full potential. CSCMP’s 2016 Annual Conference is an event like none other\, presenting you with unlimited opportunities to learn from industry experts\, hear dynamic speakers\, and network with the most influential supply chain leaders in the world. You’ll also connect to the latest supply chain management knowledge\, research\, and industry developments. Join your colleagues from all over the world in Orlando\, Florida and make the connections that will accelerate your success. View the Top 10 Reasons to Attend CSCMP’s 2016 Annual Conference. \nhttps://cscmp.org/annual-conference
URL:https://allieddistribution.com/event/cscmps-2016-annual-conference-is-supply-chains-premier-event/
LOCATION:Gaylord Palms Resort & Convention Center\, 6000 W Osceola Pkwy\, Kissimmee\, FL\, 34746\, United States
END:VEVENT
BEGIN:VEVENT
DTSTART;VALUE=DATE:20160925
DTEND;VALUE=DATE:20160929
DTSTAMP:20260425T192206
CREATED:20160412T010959Z
LAST-MODIFIED:20160412T010959Z
UID:262-1474761600-1475107199@allieddistribution.com
SUMMARY:CSCMP 2016 Annual Conference
DESCRIPTION:If you’re not connected to the global community of successful supply chain businesses\, thought leaders\, and innovators\, your company and your career can never reach their full potential. CSCMP’s 2016 Annual Conference is an event like none other\, presenting you with unlimited opportunities to learn from industry experts\, hear dynamic speakers\, and network with the most influential supply chain leaders in the world. You’ll also connect to the latest supply chain management knowledge\, research\, and industry developments. Join your colleagues from all over the world in Orlando\, Florida and make the connections that will accelerate your success. View the Top 10 Reasons to Attend CSCMP’s 2016 Annual Conference. \n2016 Annual Conference Informational Flyer [pdf]
URL:https://allieddistribution.com/event/cscmp-2016-annual-conference/
LOCATION:Gaylord Palms Resort and Convention Center\, 6000 W Osceola Pkwy\, Kissimmee\, FL\, 34746\, United States
END:VEVENT
BEGIN:VEVENT
DTSTART;VALUE=DATE:20160921
DTEND;VALUE=DATE:20160925
DTSTAMP:20260425T192206
CREATED:20160412T004727Z
LAST-MODIFIED:20160412T004727Z
UID:259-1474416000-1474761599@allieddistribution.com
SUMMARY:Natural Products Expo East - Baltimore\, MD
DESCRIPTION:
URL:https://allieddistribution.com/event/natural-products-expo-east-baltimore-md/
LOCATION:Baltimore Convention Center\, One West Pratt Street\, Baltimore\, MD\, 21201\, United States
END:VEVENT
BEGIN:VEVENT
DTSTART;TZID=UTC:20160916T080000
DTEND;TZID=UTC:20160916T170000
DTSTAMP:20260425T192206
CREATED:20160712T234243Z
LAST-MODIFIED:20160712T234243Z
UID:279-1474012800-1474045200@allieddistribution.com
SUMMARY:Make it & Move it! East Bay Manufacturing Summit 2016
DESCRIPTION:Make It & Move It! is the premiere annual event for corporate executives from the East Bay’s manufacturing and transportation & logistics companies to come together with elected officials and partners to recognize the economic activity these industries are generating in the East Bay\, and the public policies and talent needed to support their success.﻿﻿ \nhttps://makeitmoveit.splashthat.com/
URL:https://allieddistribution.com/event/make-it-move-it-east-bay-manufacturing-summit-2016/
LOCATION:Zero Net Energy Center\, 14600 Catalina Street\, San Leandro\, CA\, 94577\, United States
END:VEVENT
BEGIN:VEVENT
DTSTART;VALUE=DATE:20160626
DTEND;VALUE=DATE:20160629
DTSTAMP:20260425T192206
CREATED:20160412T004128Z
LAST-MODIFIED:20160412T004128Z
UID:256-1466899200-1467158399@allieddistribution.com
SUMMARY:Summer Fancy Food Show - New York
DESCRIPTION:SFFS16 is the largest specialty food trade event in North America and the leading showcase of industry innovation\, bringing specialty food’s top manufacturers\, buyers\, and thought leaders together under one roof for three days of delectable discovery\, June 26 – 28. 2016 will feature more than 180\,000 products\, 25\,000 buyers\, and 2\,500 exhibitors. \nhttps://www.specialtyfood.com/shows-events/summer-fancy-food-show/
URL:https://allieddistribution.com/event/summer-fancy-food-show-new-york/
LOCATION:Javits Center\, 655 W 34th St\, New York\, NY\, 10001\, United States
END:VEVENT
BEGIN:VEVENT
DTSTART;VALUE=DATE:20160524
DTEND;VALUE=DATE:20160527
DTSTAMP:20260425T192206
CREATED:20160412T003643Z
LAST-MODIFIED:20160412T003830Z
UID:253-1464048000-1464307199@allieddistribution.com
SUMMARY:Sweets & Snacks Expo - Chicago\, IL
DESCRIPTION:More confectionery and snack buyers in more trade channels than any other U.S. show! Attendees at the Sweets & Snacks Expo represent $150 billion of worldwide buying power in the confectionery\, snack and cookie categories. Discover thousands of new products from more than 700 exhibiting companies. \n\nHome
URL:https://allieddistribution.com/event/sweets-snacks-expo-chicago-il/
LOCATION:McCormick Place\, 2301 S King Dr\, Chicago\, IL\, 60616\, United States
END:VEVENT
BEGIN:VEVENT
DTSTART;VALUE=DATE:20160515
DTEND;VALUE=DATE:20160519
DTSTAMP:20260425T192206
CREATED:20160412T002855Z
LAST-MODIFIED:20160412T003010Z
UID:250-1463270400-1463615999@allieddistribution.com
SUMMARY:WERC 39th Annual Conference
DESCRIPTION:Here’s what you can look forward to at the WERC Conference: \n\nYou’ll get industry specific continuing education.\nYou’ll benchmark and brainstorm with your peers.\nYou’ll see how other DC’s operate.\nYou’ll meet friends and make new industry contacts.\nYou’ll stay current on the latest products\, technology and equipment.\n\nOverall\, you’ll get more value and ROI than ever before.\n\n 
URL:https://allieddistribution.com/event/werc-39th-annual-conference/
LOCATION:Rhode Island Convention Center\, 1 Sabin St\, Providence\, RI\, 02903\, United States
END:VEVENT
BEGIN:VEVENT
DTSTART;TZID=UTC:20160511T173000
DTEND;TZID=UTC:20160511T203000
DTSTAMP:20260425T192206
CREATED:20160126T015544Z
LAST-MODIFIED:20160126T015544Z
UID:245-1462987800-1462998600@allieddistribution.com
SUMMARY:First Annual CSCMP Scholars & Business Gala
DESCRIPTION:Former CEO of Ford Motor Company (invited)
URL:https://allieddistribution.com/event/first-annual-cscmp-scholars-business-gala/
LOCATION:Blackhawk Museum\, 3700 Blackhawk Plaza Cir\, Danville\, CA\, 94506\, United States
END:VEVENT
BEGIN:VEVENT
DTSTART;TZID=UTC:20160412T173000
DTEND;TZID=UTC:20160412T203000
DTSTAMP:20260425T192206
CREATED:20160126T015239Z
LAST-MODIFIED:20160126T015239Z
UID:243-1460482200-1460493000@allieddistribution.com
SUMMARY:“Champions of Innovation” Panel
DESCRIPTION:“Champions of Innovation” Panel with Google\, and Facebook; plus keynote by Ronnie Lott & Friends at Levi’s Stadium\, Tailgate Section Restaurant.
URL:https://allieddistribution.com/event/champions-of-innovation-panel/
LOCATION:Levi’s Stadium\, 4900 Marie P DeBartolo Way\, Santa Clara\, CA\, 95054\, United States
END:VEVENT
BEGIN:VEVENT
DTSTART;TZID=UTC:20160310T173000
DTEND;TZID=UTC:20160310T203000
DTSTAMP:20260425T192206
CREATED:20160126T014826Z
LAST-MODIFIED:20160126T014826Z
UID:241-1457631000-1457641800@allieddistribution.com
SUMMARY:Beer to Glass: NorCal Craft Beer Supply Chain
DESCRIPTION:
URL:https://allieddistribution.com/event/beer-to-glass-norcal-craft-beer-supply-chain/
LOCATION:Devil’s Canyon Brewing Company\, 935 Washington St\, San Carlos\, CA\, 94070\, United States
END:VEVENT
BEGIN:VEVENT
DTSTART;VALUE=DATE:20160309
DTEND;VALUE=DATE:20160314
DTSTAMP:20260425T192206
CREATED:20160122T014523Z
LAST-MODIFIED:20160122T014523Z
UID:205-1457481600-1457913599@allieddistribution.com
SUMMARY:Natural Products Expo
DESCRIPTION:Attend Natural Products Expo West \nEducation & Events: March 9-13\, 2016\nTrade Show:\nAnaheim Hilton March 10-12\, 2016\nAnaheim Convention Center March 11-13\, 2016\nAnaheim\, CA USA \nTo meet with Rob Nemeth while onsite in Ahaheim\, click here to schedule. \nClick for link to confererence registration
URL:https://allieddistribution.com/event/natural-products-expo/
LOCATION:Anaheim Hilton\, 777 Convention Way\, Anaheim\, CA\, 92802\, United States
END:VEVENT
BEGIN:VEVENT
DTSTART;VALUE=DATE:20160228
DTEND;VALUE=DATE:20160302
DTSTAMP:20260425T192206
CREATED:20160122T014402Z
LAST-MODIFIED:20160122T014402Z
UID:202-1456617600-1456876799@allieddistribution.com
SUMMARY:Food Shippers of America 61st Annual Conference
DESCRIPTION:2016 Conference Registration is now OPEN for Food Shippers of America’s 61st Annual Conference \nJW Marriott Desert Springs in Palm Desert CA\nFebruary 28th- March 1\, 2016 \nClick here to schedule a meeting with Rob Nemeth while onsite in Palm Desert
URL:https://allieddistribution.com/event/food-shippers-of-america-61st-annual-conference/
LOCATION:JW Marriott Desert Springs\, 74-855 Country Club Dr\, Palm Desert\, CA\, 92260\, United States
END:VEVENT
BEGIN:VEVENT
DTSTART;TZID=UTC:20160211T173000
DTEND;TZID=UTC:20160211T203000
DTSTAMP:20260425T192206
CREATED:20160122T014125Z
LAST-MODIFIED:20160126T011359Z
UID:198-1455211800-1455222600@allieddistribution.com
SUMMARY:The Logistics of High Tech Supply Chains
DESCRIPTION:Speakers: To Be Announced \nWhen:\nFebruary 11\, 2016\n5:30 PM – 8:30 PM (PST) \nLocation:\nFaz Restaurant\n5121 Hopyard Rd\nPleasanton\, CA 94588 \nBob Jahncke\nExecutive Director of Logistics\, Seagate \nTo Read More About This Event… \n\nEvent Chair:\nMike Hamilton \n\nPast Chairman of the International Warehousing & Logistics Association (IWLA) and co-founder/past president of the Distribution Centers of America (DCA)\, Jere is a well-known mentor\, advisor and contributor to the industry’s leading professional development organizations\, as well as a respected San Francisco Bay Area business leader.\nif you’re intersted in meeting Jeremy at the event\, email him at\, jeremy@prismlogistics.com.  If you would like to attend the event or if you have questions\, CLICK HERE.
URL:https://allieddistribution.com/event/the-logistics-of-high-tech-supply-chains/
LOCATION:Faz Restaurant\, 5121 Hopyard Rd \, Pleasonton\, CA\, 94588\, United States
END:VEVENT
BEGIN:VEVENT
DTSTART;TZID=UTC:20160121T173000
DTEND;TZID=UTC:20160121T203000
DTSTAMP:20260425T192206
CREATED:20160122T012321Z
LAST-MODIFIED:20160122T013937Z
UID:193-1453397400-1453408200@allieddistribution.com
SUMMARY:Corporate Social Responsibility / Supply Chain Sustainability
DESCRIPTION:How are corporate sustainability veterans handling the ongoing challenge of going green? During this panel we’ll ask leaders to explain key focus points on sustainability in the supply chain. You’ll learn how to properly integrate your resources into suitable ecological modes\, effectively disseminate topical information to your workforce\, diversify your supply chain options to line up with current trends\, and\, ultimately\, reduce your business’ carbon footprint! After all\, you need to go green\, to make green. \nWhen:\nJanuary 21\, 2016\n5:30 PM – 8:30 PM (PST) \nLocation:\nLevi Strauss & Co. Corporate Headquarters\n1155 Battery St.\nSan Francisco\, CA 94111 \nTo Read More About This Event… \n \nEvent Chair:\nTom Dennison \n\nClick here if you would like to meet with Rob Nemeth at the event.
URL:https://allieddistribution.com/event/corporate-social-responsibility-supply-chain-sustainability/
LOCATION:Levi Strauss & Co. Corporate Headquarters\, 1155 Battery St.\, San Francisco\, CA\, 94111\, United States
END:VEVENT
END:VCALENDAR