BEGIN:VCALENDAR
VERSION:2.0
PRODID:-//Allied Distribution - ECPv6.15.7//NONSGML v1.0//EN
CALSCALE:GREGORIAN
METHOD:PUBLISH
X-ORIGINAL-URL:https://allieddistribution.com
X-WR-CALDESC:Events for Allied Distribution
REFRESH-INTERVAL;VALUE=DURATION:PT1H
X-Robots-Tag:noindex
X-PUBLISHED-TTL:PT1H
BEGIN:VTIMEZONE
TZID:UTC
BEGIN:STANDARD
TZOFFSETFROM:+0000
TZOFFSETTO:+0000
TZNAME:UTC
DTSTART:20160101T000000
END:STANDARD
END:VTIMEZONE
BEGIN:VEVENT
DTSTART;VALUE=DATE:20200503
DTEND;VALUE=DATE:20200507
DTSTAMP:20260425T145334
CREATED:20200115T031540Z
LAST-MODIFIED:20200327T042935Z
UID:650-1588464000-1588809599@allieddistribution.com
SUMMARY:WERC - Cancelled
DESCRIPTION:The WERC conference is evolving! In 2020 we’re pioneering a new\, collaborative approach to professional education and networking that will help you stay on top of industry developments and build more authentic business relationships. \nTraditional trade show booths are gone\, along with the awkward showroom vibe and sales tactics. Interested in learning more about a product or service? Attend a short\, interactive Solutions Studio Session where you can get meaningful information\, ask questions\, and make an informed decision in a zero-pressure group setting. \nEverything else stays the same: fantastic facility tours\, fun networking events and an unrivaled roster of thought leaders and front-line practitioners delivering practical solutions to your most pressing challenges.
URL:https://allieddistribution.com/event/werc/
LOCATION:Rhode Island Convention Center\, 1 Sabin St\, Providence\, RI\, 02903\, United States
END:VEVENT
BEGIN:VEVENT
DTSTART;VALUE=DATE:20200303
DTEND;VALUE=DATE:20200308
DTSTAMP:20260425T145334
CREATED:20200115T031253Z
LAST-MODIFIED:20200327T042946Z
UID:648-1583193600-1583625599@allieddistribution.com
SUMMARY:NPEW\, Natural Products Expo West - Cancelled
DESCRIPTION:Attend the world’s largest natural\, organic and healthy products trade show\nJoin top industry members at the largest event of its kind. \nTrade Show\nACC North Halls\, Marriott & Hilton\nMarch 4-6\, 2020\nACC Halls A-E\, Arena & Level 3\nMarch 5-7\, 2020\nAnaheim\, CA USA
URL:https://allieddistribution.com/event/npew-natural-products-expo-west/
LOCATION:Anaheim Convention Center\, 800 West Katella Avenue\, Anaheim\, CA\, 92802\, United States
END:VEVENT
BEGIN:VEVENT
DTSTART;VALUE=DATE:20200223
DTEND;VALUE=DATE:20200226
DTSTAMP:20260425T145334
CREATED:20200115T030812Z
LAST-MODIFIED:20200115T030812Z
UID:645-1582416000-1582675199@allieddistribution.com
SUMMARY:Food Shippers of America
DESCRIPTION:2020\nFebruary 23rd – February 25th\nJW Marriott Grande Lakes\nOrlando\, FL
URL:https://allieddistribution.com/event/food-shippers-of-america/
LOCATION:JW Marriott Grande Lakes\, 4040 Central Florida Pkwy\, Orlando\, FL\, 32837\, United States
END:VEVENT
BEGIN:VEVENT
DTSTART;VALUE=DATE:20200119
DTEND;VALUE=DATE:20200122
DTSTAMP:20260425T145334
CREATED:20200115T030221Z
LAST-MODIFIED:20200115T030221Z
UID:643-1579392000-1579651199@allieddistribution.com
SUMMARY:Winter Specialty Food Show
DESCRIPTION:This is What Tomorrow Tastes Like!\nThe 2020 Winter Fancy Food Show will take place in San Francisco\, CA from January 19 to 21 and will feature: \n\n80\,000+ specialty foods & beverages\nThousands of new products\nIndustry’s top networking events\n1\,400+ exhibitors from around the globe\n\nShow Hours\nSunday\, January 19\, 2020 10:00 am* – 5:00 pm\nMonday\, January 20\, 2020 10:00 am* – 5:00 pm\nTuesday\, January 21\, 2020 10:00 am* – 4:00 pm
URL:https://allieddistribution.com/event/winter-specialty-food-show/
LOCATION:Moscone Center\, 747 Howard Street\, San Francisco\, CA\, 94103\, United States
END:VEVENT
BEGIN:VEVENT
DTSTART;VALUE=DATE:20191117
DTEND;VALUE=DATE:20191120
DTSTAMP:20260425T145334
CREATED:20190416T051034Z
LAST-MODIFIED:20190416T051034Z
UID:516-1573948800-1574207999@allieddistribution.com
SUMMARY:Private Label Manufacturers Association
DESCRIPTION:Buyers from every channel will be at the 2019 show. Today’s supermarkets\, supercenters\, drug chains\, mass merchandisers\, convenience stores\, online retailers\, importers\, exporters\, wholesalers\, discounters\, and even military exchanges\, will all be on hand\, looking for new products and identifying new suppliers. \nFor more than 30 years\, PLMA’s annual trade show has been the industry event of the year\, where retailers and wholesalers source for their private label programs. More than 1\,500 companies from 40 countries will be exhibiting their products\, including 25 international pavilions. Exhibitors range from small and medium-size companies to well-known national brand makers who also supply store brands. \nNo show offers participants a greater opportunity to meet. PLMA’s online Show Preview helps buyers and sellers to identify interesting products in advance of the show and set up one-on-one meetings. PLMA’s Idea Supermarket displays private label programs of retailers around the world to benchmark what the industry is doing. And all of this is concentrated into two days of show floor time to maximize exhibitor and visitor time. \nPLMA’s 2019 Private Label Trade Show will be held at the Rosemont Convention Center\, only 10 minutes from Chicago’s O’Hare International Airport. Conveniently located within walking distance or short shuttle bus rides from major hotels\, the convention center provides exhibitors with an easy-to-reach\, efficient venue for trade shows.
URL:https://allieddistribution.com/event/private-label-manufacturers-association/
LOCATION:Donald E. Stephens Convention Center\, 5555 N River Rd\, Rosemont\, IL\, 60018\, United States
END:VEVENT
BEGIN:VEVENT
DTSTART;VALUE=DATE:20190915
DTEND;VALUE=DATE:20190919
DTSTAMP:20260425T145334
CREATED:20190416T050748Z
LAST-MODIFIED:20190416T050748Z
UID:515-1568505600-1568851199@allieddistribution.com
SUMMARY:EDGE 2019 Anaheim
DESCRIPTION:Join us in Anaheim\, California at EDGE 2019\nSeptember 15 – 18\, 2019 | Anaheim Convention Center | Anaheim\, California \nThe Council of Supply Chain Management Professionals (CSCMP) hosts supply chains premier eventTM—CSCMP EDGE. \nFrom leading-edge content to cutting-edge supply chain solutions\, EDGE reflects the unparalleled resources CSCMP offers today and symbolizes our unwavering commitment to supply chain in the future.
URL:https://allieddistribution.com/event/edge-2019-anaheim/
LOCATION:Anaheim Convention Center\, 800 West Katella Avenue\, Anaheim\, CA\, 92802\, United States
END:VEVENT
BEGIN:VEVENT
DTSTART;VALUE=DATE:20190912
DTEND;VALUE=DATE:20190915
DTSTAMP:20260425T145334
CREATED:20190416T050631Z
LAST-MODIFIED:20190416T050631Z
UID:514-1568246400-1568505599@allieddistribution.com
SUMMARY:Natural Products Expo East
DESCRIPTION:The 33rd annual Natural Products Expo East\, held September 12th-15th\, is at the epicenter of consumer demand and innovation in food and beverage\, personal care and home\, and supplements and ingredients.
URL:https://allieddistribution.com/event/natural-products-expo-east-2/
LOCATION:Baltimore Convention Center\, One West Pratt Street\, Baltimore\, MD\, 21201\, United States
END:VEVENT
BEGIN:VEVENT
DTSTART;VALUE=DATE:20190623
DTEND;VALUE=DATE:20190626
DTSTAMP:20260425T145334
CREATED:20190416T050537Z
LAST-MODIFIED:20190416T050652Z
UID:513-1561248000-1561507199@allieddistribution.com
SUMMARY:Summer Specialty Food Show
DESCRIPTION:The Summer Fancy Food Show is the largest specialty food industry event in North America\, and the premier showcase for industry innovation. We are pleased to announce new dates for the 2019 Show – Sunday\, June 23 through Tuesday\, June 25. That puts us well before the Fourth of July holiday and other New York City summer celebrations. Join us and experience more new and exciting events\, programs\, and exhibitors than ever before. This is the place to see and taste the future of food!
URL:https://allieddistribution.com/event/summer-specialty-food-show/
LOCATION:Javits Center\, 655 W 34th St\, New York\, NY\, 10001\, United States
END:VEVENT
BEGIN:VEVENT
DTSTART;TZID=UTC:20190506T170000
DTEND;TZID=UTC:20190507T180000
DTSTAMP:20260425T145334
CREATED:20190322T051610Z
LAST-MODIFIED:20190322T051610Z
UID:502-1557162000-1557252000@allieddistribution.com
SUMMARY:Eighth Annual SCMI Spring Symposium at USD
DESCRIPTION:REGISTRATION NOW OPEN
URL:https://allieddistribution.com/event/eighth-annual-scmi-spring-symposium-at-usd/
LOCATION:Kroc Institute for Peace & Justice\, 5998 Alcala Park\, San Diego\, CA\, 92110\, United States
END:VEVENT
BEGIN:VEVENT
DTSTART;VALUE=DATE:20190428
DTEND;VALUE=DATE:20190502
DTSTAMP:20260425T145334
CREATED:20190416T050443Z
LAST-MODIFIED:20190416T050443Z
UID:511-1556409600-1556755199@allieddistribution.com
SUMMARY:WERC 2019 Annual Conference
DESCRIPTION:
URL:https://allieddistribution.com/event/werc-2019-annual-conference/
LOCATION:Greater Columbus Convention Center\, 400 N. High Street\, Columbus\, OH\, 43215\, United States
END:VEVENT
BEGIN:VEVENT
DTSTART;VALUE=DATE:20190305
DTEND;VALUE=DATE:20190310
DTSTAMP:20260425T145334
CREATED:20190103T045142Z
LAST-MODIFIED:20190103T045142Z
UID:449-1551744000-1552175999@allieddistribution.com
SUMMARY:Natural Products Expo West
DESCRIPTION:Natural Products Expo West is a private trade show open to the trade only\, and not open to the public.
URL:https://allieddistribution.com/event/natural-products-expo-west/
LOCATION:Anaheim Convention Center\, 800 West Katella Avenue\, Anaheim\, CA\, 92802\, United States
END:VEVENT
BEGIN:VEVENT
DTSTART;VALUE=DATE:20190303
DTEND;VALUE=DATE:20190306
DTSTAMP:20260425T145334
CREATED:20190103T044643Z
LAST-MODIFIED:20190103T044643Z
UID:448-1551571200-1551830399@allieddistribution.com
SUMMARY:Food Shippers Annual Logistics Conference
DESCRIPTION:Food Shippers of America 2019 64th Annual Conference will be held at the J.W. Marriott Desert Springs in Palm Desert\, California
URL:https://allieddistribution.com/event/food-shippers-annual-logistics-conference/
LOCATION:JW Marriott Desert Springs\, 74-855 Country Club Dr\, Palm Desert\, CA\, 92260\, United States
END:VEVENT
BEGIN:VEVENT
DTSTART;VALUE=DATE:20190224
DTEND;VALUE=DATE:20190228
DTSTAMP:20260425T145334
CREATED:20190103T044445Z
LAST-MODIFIED:20190103T044445Z
UID:447-1550966400-1551311999@allieddistribution.com
SUMMARY:LINK2019: RILA's Retail Supply Chain Conference
DESCRIPTION:Retail has evolved. To succeed\, top retailers must master the demands of omnichannel fulfillment. For supply chain executives\, this means selectively adopting emerging technologies\, rapidly developing urban fulfillment processes\, and actively building strategic relationships with logistics service providers. \nThat’s why senior supply chain executives from the top retailers attend LINK\, RILA’s Retail Supply Chain Conference.
URL:https://allieddistribution.com/event/link2019-rilas-retail-supply-chain-conference/
LOCATION:Gaylord Palms Resort & Convention Center\, 6000 W Osceola Pkwy\, Kissimmee\, FL\, 34746\, United States
END:VEVENT
BEGIN:VEVENT
DTSTART;VALUE=DATE:20190113
DTEND;VALUE=DATE:20190116
DTSTAMP:20260425T145334
CREATED:20190103T044151Z
LAST-MODIFIED:20190103T044151Z
UID:446-1547337600-1547596799@allieddistribution.com
SUMMARY:2019 WINTER  FANCY FOOD SHOW
DESCRIPTION:SEE & TASTE THE FUTURE OF FOOD! \nWhat are the next big food trends? Come taste them for yourself! There’s no better place for that than the 2019 Winter Fancy Food Show. \n\n80\,000+ specialty foods & beverages\nThousands of new products\nIndustry’s top networking events\n1\,400+ exhibitors from around the globe
URL:https://allieddistribution.com/event/2019-winter-fancy-food-show/
LOCATION:Moscone Center\, 747 Howard Street\, San Francisco\, CA\, 94103\, United States
END:VEVENT
BEGIN:VEVENT
DTSTART;TZID=UTC:20181111T080000
DTEND;TZID=UTC:20181113T170000
DTSTAMP:20260425T145334
CREATED:20180604T203307Z
LAST-MODIFIED:20180604T203307Z
UID:429-1541923200-1542128400@allieddistribution.com
SUMMARY:US - Private Label Trade Show
DESCRIPTION:To help member companies meet retailers from the U.S. and Canada\, PLMA organises its U.S. Private Label Trade Show in Chicago each November. Buyers from all major supermarkets\, supercenters\, drug chains\, mass merchandisers\, convenience stores\, online retailers\, importers\, exporters\, wholesalers\, discounters\, and even military exchanges participate.
URL:https://allieddistribution.com/event/us-private-label-trade-show/
LOCATION:Donald E Stevens Convention Center\, Chicago - Rosemont
END:VEVENT
BEGIN:VEVENT
DTSTART;VALUE=DATE:20181018
DTEND;VALUE=DATE:20181021
DTSTAMP:20260425T145334
CREATED:20180604T202556Z
LAST-MODIFIED:20180604T202556Z
UID:426-1539820800-1540079999@allieddistribution.com
SUMMARY:PMA - Fresh Summit 2018
DESCRIPTION:Fresh Summit International Convention & Expo\n\n\n\n\n\nMore than 20\,000 participants throughout the global fresh produce and floral supply chains come together as a community to learn\, network\, build relationships\, and do business.
URL:https://allieddistribution.com/event/pma-fresh-summit-2018/
LOCATION:Orange County Convention Center\, Orlando\, FL\, United States
END:VEVENT
BEGIN:VEVENT
DTSTART;TZID=UTC:20180930T080000
DTEND;TZID=UTC:20181003T170000
DTSTAMP:20260425T145334
CREATED:20180604T202008Z
LAST-MODIFIED:20180604T202650Z
UID:423-1538294400-1538586000@allieddistribution.com
SUMMARY:CSCMP edge Conference & Exhibition
DESCRIPTION:  \nThe Council of Supply Chain Management Professionals (CSCMP) hosts the must-attend supply chain event of the year — CSCMP’s Annual Global Conference\, EDGE. \nFrom leading-edge content to cutting-edge supply chain solutions\, EDGE reflects the unparalleled resources CSCMP offers today and symbolizes our unwavering commitment to supply chain in the future.
URL:https://allieddistribution.com/event/423/
LOCATION:RI
END:VEVENT
BEGIN:VEVENT
DTSTART;TZID=UTC:20180912T080000
DTEND;TZID=UTC:20180915T170000
DTSTAMP:20260425T145334
CREATED:20180604T201449Z
LAST-MODIFIED:20180604T201449Z
UID:421-1536739200-1537030800@allieddistribution.com
SUMMARY:Natural Foods Expo East - 2018
DESCRIPTION:Whether you are looking for health and beauty\, organic\, or natural and specialty foods\, this is THE place to see the newest products and trends this fall. Expo East connects you with the people behind the products\, introduces you to industry experts in the classroom\, and invites you to have fun with a community of other like-minded professionals.
URL:https://allieddistribution.com/event/natural-foods-expo-east-2018/
LOCATION:Baltimore Convention Center\, One West Pratt Street\, Baltimore\, MD\, 21201\, United States
END:VEVENT
BEGIN:VEVENT
DTSTART;TZID=UTC:20180630T080000
DTEND;TZID=UTC:20180702T170000
DTSTAMP:20260425T145334
CREATED:20180331T030355Z
LAST-MODIFIED:20180331T030355Z
UID:414-1530345600-1530550800@allieddistribution.com
SUMMARY:Summer Fancy Food Show - 2018
DESCRIPTION:  \n \nThe Summer Fancy Food Show is the largest specialty food industry trade event in North America\, and the premier showcase for industry innovation. 2017 featured more exciting new events\, programs\, and exhibitors than ever before. \n  \nClick for more information  \n  \n  \n  \n  \n 
URL:https://allieddistribution.com/event/summer-fancy-food-show-2018/
LOCATION:Javits Center\, 655 W 34th St\, New York\, NY\, 10001\, United States
END:VEVENT
BEGIN:VEVENT
DTSTART;TZID=UTC:20180522T080000
DTEND;TZID=UTC:20180724T170000
DTSTAMP:20260425T145334
CREATED:20180331T025115Z
LAST-MODIFIED:20180331T025115Z
UID:411-1526976000-1532451600@allieddistribution.com
SUMMARY:Sweets & Snacks Expo 2018
DESCRIPTION:Expo Is Your Trusted Source for Everything New\nDiscover five acres of widespread product innovation over two halls\, specialized category solutions\, and insights no other show has.Connect with more than 850 exhibitors and nearly 18\,000 candy and snack professionals. \nPUT YOURSELF IN THE CENTER OF IT ALL
URL:https://allieddistribution.com/event/sweets-snacks-expo-2018/
LOCATION:Unnamed Venue\, Chicago\, IL\, United States
END:VEVENT
BEGIN:VEVENT
DTSTART;TZID=UTC:20180506T080000
DTEND;TZID=UTC:20180509T170000
DTSTAMP:20260425T145334
CREATED:20180331T023250Z
LAST-MODIFIED:20180331T023250Z
UID:408-1525593600-1525885200@allieddistribution.com
SUMMARY:WERC Conference 2018
DESCRIPTION:  \nGet ready for a conference program full of stellar\, thought-provoking and innovative sessions. From deep dive sessions and peer-to-peer learning\, to TED-style talks and thought leader sessions\, WERC’s Annual Conference will keep you engaged and help you learn about the latest — and future — in logistics and warehousing. \n 
URL:https://allieddistribution.com/event/werc-conference-2018/
LOCATION:Charlotte Convention Center\, Charlotte \, FL\, United States
END:VEVENT
BEGIN:VEVENT
DTSTART;TZID=UTC:20180415T080000
DTEND;TZID=UTC:20180417T170000
DTSTAMP:20260425T145334
CREATED:20180331T021033Z
LAST-MODIFIED:20180331T021033Z
UID:405-1523779200-1523984400@allieddistribution.com
SUMMARY:FMI/GMA Conference
DESCRIPTION:  \n  \n  \nHyatt Regency Grand Cypress\, Orlando FL \nClick for website
URL:https://allieddistribution.com/event/fmi-gma-conference/
LOCATION:Hyatt Regency Grand Cypress\, 1 Grand Cypress Blvd\, Orlando\, FL\, United States
END:VEVENT
BEGIN:VEVENT
DTSTART;TZID=UTC:20180412T073000
DTEND;TZID=UTC:20180412T140000
DTSTAMP:20260425T145334
CREATED:20180331T035557Z
LAST-MODIFIED:20180331T040230Z
UID:417-1523518200-1523541600@allieddistribution.com
SUMMARY:CSCMP SF Roundtable - 6th Annual Innovation Event
DESCRIPTION:JOIN THE SEASON SIGNATURE EVENT:\nThursday\, April 12\n6th Annual Innovation Event\nThis year the CSCMP-San Francisco Roundtable 6th Annual Innovation Event returns to a half-day format\, including breakfast and lunch with keynote speakers\, dynamic panels focused on robotics\, artificial intelligence and women in logistics\, a full morning briefing and interaction with supply chain thought leaders and innovators. Agenda will include plenty of time for networking and feature an exhibitor display area. \nClick for more information
URL:https://allieddistribution.com/event/cscmp-sf-roundtable-6th-annual-innovation-event/
LOCATION:RI
END:VEVENT
BEGIN:VEVENT
DTSTART;TZID=UTC:20180225T080000
DTEND;TZID=UTC:20180228T170000
DTSTAMP:20260425T145334
CREATED:20180109T220855Z
LAST-MODIFIED:20180109T220855Z
UID:380-1519545600-1519837200@allieddistribution.com
SUMMARY:RILA Retail Supply Chain Conference
DESCRIPTION:  \n  \n  \n 
URL:https://allieddistribution.com/event/rila-retail-supply-chain-conference/
LOCATION:Phoenix Conference Center\, 100 N 3rd St\, Phoenix\, AZ\, United States
END:VEVENT
BEGIN:VEVENT
DTSTART;TZID=UTC:20180121T080000
DTEND;TZID=UTC:20180123T170000
DTSTAMP:20260425T145334
CREATED:20171201T230128Z
LAST-MODIFIED:20171201T230128Z
UID:376-1516521600-1516726800@allieddistribution.com
SUMMARY:Winter Fancy Food Show 2018
DESCRIPTION:Specialty Food Association’s Winter Fancy Food Show \n \nWhen it comes to exploring the next big food trends\, there are no substitutes for tasting them yourself. And there’s no better place for that than the 2018 Winter Fancy Food Show.
URL:https://allieddistribution.com/event/winter-fancy-food-show-2018/
LOCATION:Moscone Center\, 747 Howard Street\, San Francisco\, CA\, 94103\, United States
END:VEVENT
BEGIN:VEVENT
DTSTART;TZID=UTC:20180118T173000
DTEND;TZID=UTC:20180118T200000
DTSTAMP:20260425T145334
CREATED:20180111T144232Z
LAST-MODIFIED:20180111T144232Z
UID:384-1516296600-1516305600@allieddistribution.com
SUMMARY:CSCMP Roundtable - The Circle of Life: Recycling/Reverse Supply Chain
DESCRIPTION:The Circle of Life\nRecycling/Reverse Supply Chain\nWhat happens to products after you throw them away? Quite often the end of one supply chain is the beginning of another – turning trash into treasure. Join Event Chair\, Tom Dennison along with CSCMP-San Francisco Roundtable members\, guests\, distinguished speakers\, and event sponsor Surplus Service to learn how many common and some uncommon products are recycled or up-cycled\, what initiatives companies are taking to build sustainability into their products\, and how legislative actions encourage recycling and sustainability. To borrow a phrase from Mufasa (of Lion King)\, recycling is the circle of life for products. \nJanuary 18 – 5:30 – 8:30 p.m.\nLocation: GoPro Corporate Headquarters\n3025 Clearview Way\, Bldg D\, San Mateo\, CA 94402 \n \nCLICK HERE TO REGISTER\nSpeakers\nLou Ramondetta\nPresident\, Surplus Service \nLou has been an industrial\, electronics\, marketing\, medical and sustainability industry expert for over 20 years.  He is the President of Surplus Service\, a green certified\, women owned business with the goal to UpcyclIT® or reuse of electronics rather than to simply recycle them. Lou’s prior executive experience includes managing businesses with global P&L’s from $50 million to $1 billion in revenue and over 100 people for electronics\, technology\, plastics\, medical and contract manufacturing.  He has held executive level positions with Xerox\, General Electric\, Philips and Sanmina\, serving in various positions for strategy\, sales\, marketing\, and service. \nHeidi Sanborn\nExecutive Director\, California Product Stewardship Council (CPSC) \nHeidi has been a trailblazer in the solid waste industry in California for 25 years working as a consultant\, then adviser to the Chair of the California Integrated Waste Management Board\, then the Director of California Product Stewardship Council in 2007 to promote the “polluter pays” model of waste management policy. She has since become an internationally recognized thought leader and driver for innovative product stewardship programs. CPSC has been successful in California\, so she started the National Stewardship Action Council (NSAC) in 2015 to promote a circular economy nationally. \nJoanne Brasch\, PhD\nSpecial Projects Manager\, California Product Stewardship Council (CPSC) \nDr. Joanne Brasch has a PhD in Industrial Economics and Environmental Analysis from the University of California\, Davis\, where she also teaches in the Department of Textiles and Clothing on topics of global industrial systems\, supply-chain sustainability\, and diffusion of innovation. She has presented internationally\, won awards for research\, and lead system-wide waste mitigation project for the UC System. As Special Project Manager at the California Product Stewardship Council (CPSC) Joanne leads projects that promote EPR and Product Stewardship in the textiles and clothing industry\, including products such as carpet\, mattresses\, packaging\, and fashion goods. \nEvent Sponsor\n \nDinner Menu\nA delicious full course buffet dinner with dessert will be served. \nCost\nCSCMP members: $60.00\nNon-members: $80.00\nStudents (CSCMP Membership Required): $40.00 \nAgenda\n5:30 – 6:15 pm – Registration and Networking\n6:15 – 6:35 pm – Serve Dinner\n6:35 – 6:45 pm – Opening Remarks\n6:45 – 7:45 pm – Speaker Presentations\n7:45 – 8:00 pm – Audience Q&A\n8:00 – 8:30 pm – Networking \nMore Information\nEvent Chair\, Tom Dennison \n\nCLICK HERE TO REGISTER
URL:https://allieddistribution.com/event/cscmp-roundtable-the-circle-of-life-recycling-reverse-supply-chain/
LOCATION:GoPro Headquarters\, 3000 Clearview Way\, San Mateo\, CA\, 94402\, United States
END:VEVENT
BEGIN:VEVENT
DTSTART;TZID=UTC:20171017T193000
DTEND;TZID=UTC:20171017T220000
DTSTAMP:20260425T145334
CREATED:20170919T033814Z
LAST-MODIFIED:20170919T033814Z
UID:365-1508268600-1508277600@allieddistribution.com
SUMMARY:Bay Area Manufacturing Night at the San Jose Sharks
DESCRIPTION:
URL:https://allieddistribution.com/event/bay-area-manufacturing-night-at-the-san-jose-sharks/
LOCATION:RI
END:VEVENT
BEGIN:VEVENT
DTSTART;TZID=UTC:20170924T080000
DTEND;TZID=UTC:20170927T170000
DTSTAMP:20260425T145334
CREATED:20170819T031905Z
LAST-MODIFIED:20171001T230826Z
UID:350-1506240000-1506531600@allieddistribution.com
SUMMARY:CSCMP Edge - Supply Chain & Expo
DESCRIPTION:Supply Chain’s Premier Event™ \nFor over 50 years\, the Council of Supply Chain Management Professionals (CSCMP) has been delivering the must-attend supply chain event of the year—CSCMP’s Annual Conference. As a part of the ongoing evolution of CSCMP and the supply chain industry\, we are pleased to announce the launch of our new conference branding\, CSCMP EDGE. \nFrom leading edge content\, to end-to-end supply chain solutions\, our new conference brand reflects the unparalleled resources we offer today and symbolizes our unwavering connection to supply chain in the future.
URL:https://allieddistribution.com/event/cscmp-edge-supply-chain-expo/
LOCATION:RI
END:VEVENT
BEGIN:VEVENT
DTSTART;VALUE=DATE:20170913
DTEND;VALUE=DATE:20170917
DTSTAMP:20260425T145334
CREATED:20170607T000745Z
LAST-MODIFIED:20170607T000745Z
UID:345-1505260800-1505606399@allieddistribution.com
SUMMARY:Natural Products Expo East
DESCRIPTION:Education & Events\nSeptember 13-16\, 2017 \nTrade Show\nSeptember 14-16\, 2017 | Baltimore Convention Center
URL:https://allieddistribution.com/event/natural-products-expo-east/
LOCATION:Baltimore Convention Center\, One West Pratt Street\, Baltimore\, MD\, 21201\, United States
END:VEVENT
BEGIN:VEVENT
DTSTART;TZID=UTC:20170819T080000
DTEND;TZID=UTC:20170819T170000
DTSTAMP:20260425T145334
CREATED:20170819T110838Z
LAST-MODIFIED:20170819T110838Z
UID:353-1503129600-1503162000@allieddistribution.com
SUMMARY:Produce Marketing Association (PMA) Fresh Summit
DESCRIPTION:Connect with 1\,000+ exhibitors and more than 19\,500 attendees from over 60 countries. Meet with experts\, leaders and decision makers from every link of the supply chain. And see how today’s bright ideas are reshaping tomorrow’s produce and floral landscape. \nRegister today. \n 
URL:https://allieddistribution.com/event/produce-marketing-association-pma-fresh-summit/
LOCATION:Ernest N. Morial Convention Center\, 900 Convention Center Blvd\, New Orleans\, LA\, 70130\, United States
END:VEVENT
END:VCALENDAR